BEGIN:VCALENDAR
VERSION:2.0
PRODID:-//Bridge Verband Westfalen - ECPv6.15.20//NONSGML v1.0//EN
CALSCALE:GREGORIAN
METHOD:PUBLISH
X-WR-CALNAME:Bridge Verband Westfalen
X-ORIGINAL-URL:https://bridge-westfalen.de
X-WR-CALDESC:Veranstaltungen für Bridge Verband Westfalen
REFRESH-INTERVAL;VALUE=DURATION:PT1H
X-Robots-Tag:noindex
X-PUBLISHED-TTL:PT1H
BEGIN:VTIMEZONE
TZID:Europe/Berlin
BEGIN:DAYLIGHT
TZOFFSETFROM:+0100
TZOFFSETTO:+0200
TZNAME:CEST
DTSTART:20210328T010000
END:DAYLIGHT
BEGIN:STANDARD
TZOFFSETFROM:+0200
TZOFFSETTO:+0100
TZNAME:CET
DTSTART:20211031T010000
END:STANDARD
BEGIN:DAYLIGHT
TZOFFSETFROM:+0100
TZOFFSETTO:+0200
TZNAME:CEST
DTSTART:20220327T010000
END:DAYLIGHT
BEGIN:STANDARD
TZOFFSETFROM:+0200
TZOFFSETTO:+0100
TZNAME:CET
DTSTART:20221030T010000
END:STANDARD
BEGIN:DAYLIGHT
TZOFFSETFROM:+0100
TZOFFSETTO:+0200
TZNAME:CEST
DTSTART:20230326T010000
END:DAYLIGHT
BEGIN:STANDARD
TZOFFSETFROM:+0200
TZOFFSETTO:+0100
TZNAME:CET
DTSTART:20231029T010000
END:STANDARD
END:VTIMEZONE
BEGIN:VEVENT
DTSTART;TZID=Europe/Berlin:20220820T110000
DTEND;TZID=Europe/Berlin:20220820T170000
DTSTAMP:20260421T153326
CREATED:20220801T094114Z
LAST-MODIFIED:20220801T104021Z
UID:2335-1660993200-1661014800@bridge-westfalen.de
SUMMARY:Turnierleiter-Kurs Ermessensentscheidungen
DESCRIPTION:
URL:https://bridge-westfalen.de/event/turnierleiter-kurs-ermessensentscheidungen/
LOCATION:BC Avenwedde\, Dr.-Thomas-Plassmann-Weg 13\, Gütersloh-Avenwedde\, NRW\, 33335
END:VEVENT
BEGIN:VEVENT
DTSTART;TZID=Europe/Berlin:20220828T103000
DTEND;TZID=Europe/Berlin:20220828T170000
DTSTAMP:20260421T153326
CREATED:20220801T094410Z
LAST-MODIFIED:20220801T104538Z
UID:2338-1661682600-1661706000@bridge-westfalen.de
SUMMARY:Bridge Workshop - Event des BVW
DESCRIPTION:
URL:https://bridge-westfalen.de/event/bridge-workshop-event-des-bvw/
LOCATION:BC Avenwedde\, Dr.-Thomas-Plassmann-Weg 13\, Gütersloh-Avenwedde\, NRW\, 33335
END:VEVENT
END:VCALENDAR