BEGIN:VCALENDAR
VERSION:2.0
PRODID:-//Bridge Verband Westfalen - ECPv6.15.20//NONSGML v1.0//EN
CALSCALE:GREGORIAN
METHOD:PUBLISH
X-ORIGINAL-URL:https://bridge-westfalen.de
X-WR-CALDESC:Veranstaltungen für Bridge Verband Westfalen
REFRESH-INTERVAL;VALUE=DURATION:PT1H
X-Robots-Tag:noindex
X-PUBLISHED-TTL:PT1H
BEGIN:VTIMEZONE
TZID:Europe/Berlin
BEGIN:DAYLIGHT
TZOFFSETFROM:+0100
TZOFFSETTO:+0200
TZNAME:CEST
DTSTART:20210328T010000
END:DAYLIGHT
BEGIN:STANDARD
TZOFFSETFROM:+0200
TZOFFSETTO:+0100
TZNAME:CET
DTSTART:20211031T010000
END:STANDARD
BEGIN:DAYLIGHT
TZOFFSETFROM:+0100
TZOFFSETTO:+0200
TZNAME:CEST
DTSTART:20220327T010000
END:DAYLIGHT
BEGIN:STANDARD
TZOFFSETFROM:+0200
TZOFFSETTO:+0100
TZNAME:CET
DTSTART:20221030T010000
END:STANDARD
BEGIN:DAYLIGHT
TZOFFSETFROM:+0100
TZOFFSETTO:+0200
TZNAME:CEST
DTSTART:20230326T010000
END:DAYLIGHT
BEGIN:STANDARD
TZOFFSETFROM:+0200
TZOFFSETTO:+0100
TZNAME:CET
DTSTART:20231029T010000
END:STANDARD
END:VTIMEZONE
BEGIN:VEVENT
DTSTART;VALUE=DATE:20220924
DTEND;VALUE=DATE:20220925
DTSTAMP:20260421T153500
CREATED:20220801T100628Z
LAST-MODIFIED:20220801T100628Z
UID:2347-1663977600-1664063999@bridge-westfalen.de
SUMMARY:BVW-Pokal-Tagesveranstaltung in Paderborn
DESCRIPTION:
URL:https://bridge-westfalen.de/event/bvw-pokal-tagesveranstaltung-in-paderborn/
LOCATION:BC Paderborn\, Im Dörener Feld 27\, Paderborn\, 33100
END:VEVENT
END:VCALENDAR